BEGIN:VCALENDAR
VERSION:2.0
PRODID:-//Oakland United Beerworks - ECPv6.3.2//NONSGML v1.0//EN
CALSCALE:GREGORIAN
METHOD:PUBLISH
X-WR-CALNAME:Oakland United Beerworks
X-ORIGINAL-URL:https://oaklandunitedbeerworks.com
X-WR-CALDESC:Events for Oakland United Beerworks
REFRESH-INTERVAL;VALUE=DURATION:PT1H
X-Robots-Tag:noindex
X-PUBLISHED-TTL:PT1H
BEGIN:VTIMEZONE
TZID:America/Los_Angeles
BEGIN:DAYLIGHT
TZOFFSETFROM:-0800
TZOFFSETTO:-0700
TZNAME:PDT
DTSTART:20250309T100000
END:DAYLIGHT
BEGIN:STANDARD
TZOFFSETFROM:-0700
TZOFFSETTO:-0800
TZNAME:PST
DTSTART:20251102T090000
END:STANDARD
END:VTIMEZONE
BEGIN:VEVENT
DTSTART;VALUE=DATE:20251001
DTEND;VALUE=DATE:20251002
DTSTAMP:20260419T054941
CREATED:20250925T225640Z
LAST-MODIFIED:20250925T225640Z
UID:13925-1759276800-1759363199@oaklandunitedbeerworks.com
SUMMARY:Beer Release- Redwood Red Ale
DESCRIPTION:In the heart of the Oakland Hills stand the quiet giants that inspired this beer. While the Bay Area is often known for its bustling neighborhoods\, historic industry\, and vibrant cultural movements\, Oakland’s redwood forests tell another story—one of endurance\, renewal\, and deep connection to the land. \nThe most famous groves are found at Aurelia Reinhardt Redwood Regional Park\, where second-growth redwoods rise as living reminders of the ancient forests that once blanketed the East Bay. Long before colonization\, the Ohlone peoplelived in harmony among these trees. Today\, one final sentinel of those original groves—the aptly named Old Survivor—still stands tall\, bridging Oakland’s past and present. \nOur Redwood Red Ale (5.3% ABV) pays tribute to these enduring landscapes with a smooth\, balanced malt character and a deep amber-red hue. It’s a beer that honors resilience and history with every sip. \nAvailable on Wednesday\, October 1st on draft and in 4-packs to-go from the taproom\, and in our online store for pickup\, CA shipping\, or local delivery.
URL:https://oaklandunitedbeerworks.com/event/beer-release-redwood-red-ale/
LOCATION:OUB Taproom\, 262 2nd Street\, Oakland\, 94607\, United States
CATEGORIES:Taproom
ATTACH;FMTTYPE=image/png:https://oaklandunitedbeerworks.com/wp-content/uploads/2025/09/Redwood-Red-Ale-2025.png
END:VEVENT
BEGIN:VEVENT
DTSTART;VALUE=DATE:20251001
DTEND;VALUE=DATE:20251002
DTSTAMP:20260419T054941
CREATED:20250925T231634Z
LAST-MODIFIED:20250925T231634Z
UID:13928-1759276800-1759363199@oaklandunitedbeerworks.com
SUMMARY:Beer Release- Iron and Steel Imperial Stout
DESCRIPTION:Forged in Oakland’s history\, brewed in Oakland today. \n\n\nIn the 1800s\, carriage making was a booming industry here\, and wheelwrights often doubled as blacksmiths—hand-forging the iron rims that gave strength and durability to every wheel. By 1878\, Oakland was home to 25 carriage makers\, including Grand Central Carriage Works\, right on 12th Street between Harrison and Alice—just up the road from our brewery. \n\n\nOur Iron and Steel Imperial Stout (9.3% ABV) pays tribute to that grit and craftsmanship. Bold\, dark\, and resilient\, it’s a beer built with the same strength and character that shaped Oakland’s industrial past. \n\n\nAvailable on Wednesday\, October 1st on draft and in 4-packs to-go from the taproom\, or order online for CA shipping and local delivery. \n\nRaise a glass to Oakland’s iron and steel roots—and enjoy a stout as strong as its history.
URL:https://oaklandunitedbeerworks.com/event/beer-release-iron-and-steel-imperial-stout/
LOCATION:OUB Taproom\, 262 2nd Street\, Oakland\, 94607\, United States
CATEGORIES:Taproom
ATTACH;FMTTYPE=image/png:https://oaklandunitedbeerworks.com/wp-content/uploads/2025/09/Iron-and-Steel-Imperial-Stout-2025.png
END:VEVENT
BEGIN:VEVENT
DTSTART;VALUE=DATE:20251004
DTEND;VALUE=DATE:20251005
DTSTAMP:20260419T054941
CREATED:20250926T012720Z
LAST-MODIFIED:20250926T012720Z
UID:13938-1759536000-1759622399@oaklandunitedbeerworks.com
SUMMARY:Pints with Purpose Benefitting Fresh Lifelines for Youth
DESCRIPTION:Join us all day on Saturday\, 10/4\, for our next Pints with Purpose community fundraiser! This month\, we’re proud to support Fresh Lifelines for Youth (FLY)\, an incredible organization making a real difference for young people in California and beyond. \n\n\nA portion of the proceeds from every pint\, 4-pack\, and to-go order sold that day will go directly to FLY. \n\n\nAbout FLY \n\n\nFLY partners with youth to unlock their potential\, disrupt the pipeline to prison\, and advance justice. They envision a future where all young people are valued and supported—where the pipeline to prison is replaced with opportunities to live healthy\, free\, and productive lives that strengthen our communities. \n\n\nSo\, grab a pint\, raise a glass\, and know that every sip helps create brighter futures. \n\n\nMark your calendars and join us in supporting this important cause! \n\nLearn more about FLY: https://flyprogram.org/ (@flyprogram)
URL:https://oaklandunitedbeerworks.com/event/pints-with-purpose-benefitting-fresh-lifelines-for-youth/
LOCATION:OUB Taproom\, 262 2nd Street\, Oakland\, 94607\, United States
CATEGORIES:Taproom
ATTACH;FMTTYPE=image/png:https://oaklandunitedbeerworks.com/wp-content/uploads/2025/09/logo-black-75x70.780c9c.png
END:VEVENT
BEGIN:VEVENT
DTSTART;VALUE=DATE:20251008
DTEND;VALUE=DATE:20251009
DTSTAMP:20260419T054941
CREATED:20250926T011826Z
LAST-MODIFIED:20250926T013541Z
UID:13931-1759881600-1759967999@oaklandunitedbeerworks.com
SUMMARY:Beer Release- Iron and Steel Mexican Hot Chocolate Imperial Stout (Taproom Exclusive)
DESCRIPTION:Inspired by our fan-favorite German Chocolate Imperial Stout\, this limited release takes things in a bold new direction. Aged on TCHO Ecuadorian cocoa nibs\, with cinnamon and ancho chiles\, it’s rich\, warming\, and unapologetically big. \n\n\nExpect a little heat\, a touch of spice\, and a whisper of smokiness—all rounded out with a decadent chocolate finish. At a hearty 9% ABV\, this dark and boozy sipper is best enjoyed fireside with a plate of mole (or however you like to keep warm on a chilly Oakland night). \n\n\nAvailable exclusively in our taproom starting on Wednesday\, October 8th. \n\n\nRaise a glass to bold flavors and Oakland grit.
URL:https://oaklandunitedbeerworks.com/event/beer-release-iron-and-steel-mexican-hot-chocolate-imperial-stout-taproom-exclusive/
LOCATION:OUB Taproom\, 262 2nd Street\, Oakland\, 94607\, United States
CATEGORIES:Taproom
ATTACH;FMTTYPE=image/png:https://oaklandunitedbeerworks.com/wp-content/uploads/2025/09/Iron-and-Steel-Mexican-Hot-Chocolate-Imperial-Stout-2025-v2.png
END:VEVENT
BEGIN:VEVENT
DTSTART;VALUE=DATE:20251008
DTEND;VALUE=DATE:20251009
DTSTAMP:20260419T054941
CREATED:20250926T012448Z
LAST-MODIFIED:20250926T012448Z
UID:13935-1759881600-1759967999@oaklandunitedbeerworks.com
SUMMARY:Beer Release- Migration West Coast IPA
DESCRIPTION:Every spring and fall\, migratory birds make their journey along the Pacific Flyway\, a route stretching from Alaska to Patagonia. Right here in Oakland\, Lake Merritt—established in 1870 as the nation’s first government-owned wildlife refuge—serves as a vital rest stop\, welcoming more than 100 species of birds throughout the year. \n\n\nJust like these birds\, this beer finds its home in Oakland. Brewed with Rakau\, El Dorado\, and Idaho 7 hops\, Migration West Coast IPA (6.5% ABV) is bright\, bold\, and full of life\, with layers of juicy fruit\, citrus\, and pine. \n\n\nAvailable on Wednesday\, October 8th on draft and in 4-packs to-go from the taproom\, plus online for CA shipping or local delivery. \nCome raise a glass to Oakland’s winged travelers—and to finding your own flight path.
URL:https://oaklandunitedbeerworks.com/event/beer-release-migration-west-coast-ipa/
LOCATION:OUB Taproom\, 262 2nd Street\, Oakland\, 94607\, United States
CATEGORIES:Taproom
ATTACH;FMTTYPE=image/png:https://oaklandunitedbeerworks.com/wp-content/uploads/2025/09/Migration-West-Coast-IPA-2025.png
END:VEVENT
BEGIN:VEVENT
DTSTART;VALUE=DATE:20251010
DTEND;VALUE=DATE:20251101
DTSTAMP:20260419T054941
CREATED:20250926T013920Z
LAST-MODIFIED:20250926T231054Z
UID:13942-1760054400-1761955199@oaklandunitedbeerworks.com
SUMMARY:Pumpkin Carving & Painting Kits Are Back!
DESCRIPTION:🎃 Pumpkin Kits Are Back! 🎃 \nIt’s that time of year again—pumpkin season! Our Pumpkin Painting & Carving Kits return starting Friday\, October 10th\, and this year we’ve teamed up with Paint Your Pet for an extra-special jack-o’-lantern experience. \n✨ Here’s how it works: \n\nPick out your pumpkin from our patch in the taproom.\nChoose a painting kit or carving kit to create your masterpiece right here at OUB—or take it home to enjoy with family and friends.\nNew this year: scan our Paint Your Pet QR code\, send in a photo of your furry friend\, and get a custom carving template made just for you!\n\nKits will be available in the taproom until Halloween\, so grab yours while supplies last. Let’s make this spooky season colorful\, creative\, and a little more OUB.
URL:https://oaklandunitedbeerworks.com/event/pumpkin-carving-painting-kits-are-back/
LOCATION:OUB Taproom\, 262 2nd Street\, Oakland\, 94607\, United States
CATEGORIES:Taproom
END:VEVENT
BEGIN:VEVENT
DTSTART;TZID=America/Los_Angeles:20251015T183000
DTEND;TZID=America/Los_Angeles:20251015T203000
DTSTAMP:20260419T054941
CREATED:20250922T234331Z
LAST-MODIFIED:20250922T234331Z
UID:13923-1760553000-1760560200@oaklandunitedbeerworks.com
SUMMARY:Learn to Play American Mahjong @ OUB
DESCRIPTION:It’s the hottest game sweeping the Bay—fun\, strategic\, and perfect for all ages. We’ve partnered with Bay Area Mahj to bring you a special 3-week Mahjong series this October! \nClass Schedule: \n\nMahjong 101– Wed\, 10/15\nMahjong 102– Wed\, 10/22\nOpen Play– Wed\, 10/29\n\nOver the course of two classes (4 hours total)\, you’ll learn:• The history of Mahjong• The difference between a Crak\, a Bam\, and a Dot (and more!)• Rules\, tiles\, and essential Mahjong terminology• How to Charleston\, read the National Mahjong League card\, and choose your hand• Strategies for offense and defense to step up your game \nYou’ll also get take-home materials to keep learning + a National Mahjong League card ($15 value) included with your registration. Oh\, and did we mention—your first drink is included too? \nBonus: Sign up for both 101 + 102 classes and you’ll get $5 off your Open Play session on 10/29! \n🔗 Space is limited\, so sign up today using the link below and get ready to fall in love with your new favorite game! \nhttps://bayareamahj.regfox.com/mahjong-101-102-with-bay-area-mahj
URL:https://oaklandunitedbeerworks.com/event/learn-to-play-american-mahjong-oub/
LOCATION:OUB Taproom\, 262 2nd Street\, Oakland\, 94607\, United States
CATEGORIES:Taproom
ATTACH;FMTTYPE=image/png:https://oaklandunitedbeerworks.com/wp-content/uploads/2025/09/Mahjong-Tiles.png
END:VEVENT
BEGIN:VEVENT
DTSTART;TZID=America/Los_Angeles:20251024T190000
DTEND;TZID=America/Los_Angeles:20251024T210000
DTSTAMP:20260419T054941
CREATED:20250926T234946Z
LAST-MODIFIED:20250926T234946Z
UID:13947-1761332400-1761339600@oaklandunitedbeerworks.com
SUMMARY:Singles Speed Dating with Love On Tap
DESCRIPTION:Tired of endless swiping? Meet local singles face to face with Love on Tap—where flirty convos\, good vibes\, and real sparks happen. Let’s make dating fun again! \n\n\n📅 Friday\, October 24🕠 Check-in at 6:30 PM | 💬 Speed dating 7–9 PM🎯 Recommended Ages: 35–45 \n\n\nTickets include entry into structured speed dating rounds (aka a series of mini-dates)\, plus we’ll handle the matches so there’s no pressure and no awkwardness—just great conversations over great beer. \n\n\nEarly bird tickets available now—don’t wait\, spots are limited! \n\n\n🔗 Grab your ticket today and get ready to meet your match! \n\nTICKETS: https://www.eventbrite.com/e/speed-dating-oakland-united-beerworks-tickets-1748558588809?aff=oubuse
URL:https://oaklandunitedbeerworks.com/event/singles-speed-dating-with-love-on-tap/
LOCATION:OUB Taproom\, 262 2nd Street\, Oakland\, 94607\, United States
CATEGORIES:Taproom
ATTACH;FMTTYPE=image/png:https://oaklandunitedbeerworks.com/wp-content/uploads/2025/09/4.png
END:VEVENT
BEGIN:VEVENT
DTSTART;TZID=America/Los_Angeles:20251031T160000
DTEND;TZID=America/Los_Angeles:20251031T200000
DTSTAMP:20260419T054941
CREATED:20251002T005913Z
LAST-MODIFIED:20251006T234948Z
UID:13961-1761926400-1761940800@oaklandunitedbeerworks.com
SUMMARY:Things That Creep Reptile Halloween Party
DESCRIPTION:Join us for a spook-tacular\, nature-filled Halloween celebration—all in support of local science education! Get up close with incredible reptiles and amphibians\, enjoy hands-on activities\, and help raise funds to bring the Wonderful World of Frogs curriculum into Oakland 3rd-grade classrooms. This program uses live animals to spark curiosity\, inspire learning\, and strengthen both science and reading skills for young learners. \nWhat to Expect: \n\nLive Animal Encounters – Touch a lizard\, meet amphibians\, and even hold a snake!\nToad Drawing Station  – Create your own creepy-cute masterpiece.\nReptile Photo Booth  – Snap a spooky shot with scaly friends.\nCostume Contest – Prize for the best nature-themed costume!\nRaffle Prizes – Including a behind-the-scenes tour of the Things That Creep facility\, a $100 gift card to East Bay Vivarium\, tickets to the UC Botanical Garden\, and more!\n\nEvent Details: \n\nAdmission: FREE (donations welcome)\nAll Ages Welcome\nDate: Friday\, October 31st\nTime: 4PM – Close\nLocation: Oakland United Beerworks\n🔗 RSVP now: https://givebutter.com/TTCHalloweenParty\n\nCome celebrate Halloween with reptiles\, amphibians\, and a cause that truly makes a difference!
URL:https://oaklandunitedbeerworks.com/event/things-that-creep-reptile-halloween-party/
LOCATION:OUB Taproom\, 262 2nd Street\, Oakland\, 94607\, United States
CATEGORIES:Taproom
ATTACH;FMTTYPE=image/png:https://oaklandunitedbeerworks.com/wp-content/uploads/2025/10/Screenshot-2025-10-01-at-2.42.52 PM.png
END:VEVENT
END:VCALENDAR