BEGIN:VCALENDAR
VERSION:2.0
PRODID:-//Oakland United Beerworks - ECPv6.3.2//NONSGML v1.0//EN
CALSCALE:GREGORIAN
METHOD:PUBLISH
X-WR-CALNAME:Oakland United Beerworks
X-ORIGINAL-URL:https://oaklandunitedbeerworks.com
X-WR-CALDESC:Events for Oakland United Beerworks
REFRESH-INTERVAL;VALUE=DURATION:PT1H
X-Robots-Tag:noindex
X-PUBLISHED-TTL:PT1H
BEGIN:VTIMEZONE
TZID:America/Los_Angeles
BEGIN:DAYLIGHT
TZOFFSETFROM:-0800
TZOFFSETTO:-0700
TZNAME:PDT
DTSTART:20250309T100000
END:DAYLIGHT
BEGIN:STANDARD
TZOFFSETFROM:-0700
TZOFFSETTO:-0800
TZNAME:PST
DTSTART:20251102T090000
END:STANDARD
END:VTIMEZONE
BEGIN:VEVENT
DTSTART;VALUE=DATE:20250501
DTEND;VALUE=DATE:20250601
DTSTAMP:20260423T062732
CREATED:20250506T154029Z
LAST-MODIFIED:20250519T174002Z
UID:13741-1746057600-1748735999@oaklandunitedbeerworks.com
SUMMARY:May Food Vendors
DESCRIPTION:Join us in the taproom Fridays through Sundays for a rotating lineup of new and returning guest food pop-ups! \nFriday 5/2: Areito Latino Latin Fusion 4PM-CLOSE \nSaturday 5/3: Genos Smash and Grub Smashburgers 12PM-8PM \nSunday 5/4: Areito Latino Latin Fusion 4PM-CLOSE \nFriday 5/9: Areito Latino Latin Fusion 4PM-CLOSE \nSaturday 5/10: HP Taco Truck (Asian Fusion Tacos) 12PM-8PM \nSunday 5/11: Areito Latino Latin Fusion 4PM-CLOSE \nFriday 5/16: Areito Latino Latin Fusion 4PM-CLOSE \nSaturday 5/17: 4th ANNUAL CHARITY CHILI COOK-OFF 12pm-4pm \nSunday 5/18: Areito Latino Latin Fusion 4PM-CLOSE \nFriday 5/23: Areito Latino Latin Fusion 4PM-CLOSE \nSaturday 5/24: White Oak BBQ 12PM-8PM \nSunday 5/25: Areito Latino Latin Fusion 4PM-CLOSE \nFriday 5/30: Areito Latino Latin Fusion 4PM-CLOSE \nSaturday 5/31: Genos Smash and Grub Smashburgers 12PM-8PM \nSunday 6/1: Areito Latino Latin Fusion 4PM-CLOSE
URL:https://oaklandunitedbeerworks.com/event/may-food-vendors/
LOCATION:OUB Taproom\, 262 2nd Street\, Oakland\, 94607\, United States
CATEGORIES:Taproom
END:VEVENT
BEGIN:VEVENT
DTSTART;TZID=America/Los_Angeles:20250503T120000
DTEND;TZID=America/Los_Angeles:20250503T220000
DTSTAMP:20260423T062732
CREATED:20250406T214548Z
LAST-MODIFIED:20250406T214635Z
UID:13695-1746273600-1746309600@oaklandunitedbeerworks.com
SUMMARY:Pints with Purpose: benefitting Oakland Genesis
DESCRIPTION:Join us for a feel-good day of beer and community at the taproom for Pints with Purpose\, where a portion of all beer sales will be donated to Oakland Genesis—an incredible local nonprofit changing lives through soccer. \nOakland Genesis provides youth from underserved communities (ages 9–18) with free transportation\, academic support\, mentorship\, nutrition\, and professional soccer coaching. Their mission is clear: use soccer as a tool to empower\, educate\, and inspire Oakland’s next generation of leaders. \nCome grab a pint\, support a great cause\, and help us raise both awareness and funds for a program that’s making a real difference in our community. \nLearn more about Oakland Genesis: https://www.oaklandgenesis.org/
URL:https://oaklandunitedbeerworks.com/event/pints-with-purpose-benefitting-oakland-genesis/
LOCATION:OUB Taproom\, 262 2nd Street\, Oakland\, 94607\, United States
CATEGORIES:Taproom
ATTACH;FMTTYPE=image/png:https://oaklandunitedbeerworks.com/wp-content/uploads/2025/04/Website-Images-Oakland-Genesis-Pints-with-Purpose.png
END:VEVENT
BEGIN:VEVENT
DTSTART;TZID=America/Los_Angeles:20250504T173000
DTEND;TZID=America/Los_Angeles:20250504T200000
DTSTAMP:20260423T062732
CREATED:20250304T231006Z
LAST-MODIFIED:20250305T170304Z
UID:13673-1746379800-1746388800@oaklandunitedbeerworks.com
SUMMARY:Mother’s Day Modern Calligraphy Class
DESCRIPTION:Looking for the perfect crafty afternoon out? Join us on Sunday\, May 4th from 3:30–5 PM for a beginner’s modern calligraphy workshop! Whether you’re a stationery lover\, DIY bride-to-be\, or just feeling creative\, this hands-on class will introduce you to calligraphy using a pointed dip pen and ink. \n\n\n🖋️ What You’ll Learn & Create:-Calligraphy basics & techniques-Unique lettering for snail mail\, wedding paper goods\, home decor & more-Beautiful\, handcrafted details for any occasion \n\n\n🎟️ Your ticket includes:-1.5 hours of guided instruction & demonstration-A beginner’s calligraphy kit (two nibs\, black ink pot\, letter guides\, tracing paper & straight pen holder)-All materials to write on – and everything is yours to keep! \n\nMake it a memorable Mother’s Day treat or a fun outing with friends! \n \nSign up here: https://sipandscript.com/event/mothers-day-modern-calligraphy-for-beginners-oakland-united-beerworks/
URL:https://oaklandunitedbeerworks.com/event/mothers-day-modern-calligraphy-class/
LOCATION:OUB Taproom\, 262 2nd Street\, Oakland\, 94607\, United States
CATEGORIES:Taproom
ATTACH;FMTTYPE=image/png:https://oaklandunitedbeerworks.com/wp-content/uploads/2025/03/Sip-and-Script-Calligraphy.png
END:VEVENT
BEGIN:VEVENT
DTSTART;TZID=America/Los_Angeles:20250508T180000
DTEND;TZID=America/Los_Angeles:20250508T200000
DTSTAMP:20260423T062732
CREATED:20250406T224036Z
LAST-MODIFIED:20250406T224036Z
UID:13707-1746727200-1746734400@oaklandunitedbeerworks.com
SUMMARY:Candle-Making Workshop w/ Hand the Light by C.S.E.
DESCRIPTION:Celebrate Mother’s Day with a fun and creative candle-making experience by Hand the Light by C.S.E. where you’ll craft your own custom-scented candles! \nLearn how to pour and design two custom-scented candles—perfect for a gift or a treat for yourself! Whether you’re making a unique gift or just looking for a fun night out\, this workshop is the perfect way to mark the occasion. \nPrice: $45 plus Eventbrite fees \n\n\nWhat’s Included: \n\n\n-All materials to create two 8oz soy candles (Please note: Tickets include supplies for two candles per person; single-candle options are not available.) \n-A selection of scent options and decorative elements (Jar types and scents may vary depending on availability.)\n-Step-by-step guidance from our expert instructors in a relaxed\, interactive setting \n\n\nReserve Your Spot: \n\n\nSeats are limited so secure your ticket now! Get your ticket here: https://www.eventbrite.com/e/mothers-day-candle-making-workshop-at-oakland-united-beerworks-tickets-1304399908239?aff=oddtdtcreator \nCreate\, Sip & Celebrate! 
URL:https://oaklandunitedbeerworks.com/event/candle-making-workshop-w-hand-the-light-by-c-s-e/
LOCATION:OUB Taproom\, 262 2nd Street\, Oakland\, 94607\, United States
CATEGORIES:Taproom
ATTACH;FMTTYPE=image/png:https://oaklandunitedbeerworks.com/wp-content/uploads/2025/04/Website-Images-Candle-Making-Workshop.png
END:VEVENT
BEGIN:VEVENT
DTSTART;TZID=America/Los_Angeles:20250510T120000
DTEND;TZID=America/Los_Angeles:20250510T160000
DTSTAMP:20260423T062732
CREATED:20250506T155022Z
LAST-MODIFIED:20250506T155022Z
UID:13744-1746878400-1746892800@oaklandunitedbeerworks.com
SUMMARY:Mother's Day-Themed Craft Party
DESCRIPTION:Join us in the taproom for a special Mother’s Day-themed Craft Party! We’ll be making pressed flower lanterns and pressed flower clay jewelry dishes—perfect as thoughtful gifts or a beautiful addition to your own home. \nAs always\, it’s free to join\, and we’ll provide all the materials—just bring your creativity and good vibes. \nWhether you’re crafting for a mom\, with a mom\, or just feeling inspired by spring\, this is a lovely way to spend your Saturday afternoon.
URL:https://oaklandunitedbeerworks.com/event/mothers-day-themed-craft-party/
LOCATION:OUB Taproom\, 262 2nd Street\, Oakland\, 94607\, United States
CATEGORIES:Taproom
END:VEVENT
BEGIN:VEVENT
DTSTART;TZID=America/Los_Angeles:20250511T120000
DTEND;TZID=America/Los_Angeles:20250511T170000
DTSTAMP:20260423T062732
CREATED:20250506T160438Z
LAST-MODIFIED:20250506T160438Z
UID:13749-1746964800-1746982800@oaklandunitedbeerworks.com
SUMMARY:Board Game Meet-Up 5/11
DESCRIPTION:Join the Oakland Board Gamers for a “Buy\, Bid\, Build: Auction/Stock Board Game”- themed game day! \nTrade smart\, invest wisely\, and dominate the board in this market-themed strategy showdown. \nFeatured games include: \n\nFor Sale – A quick and clever real estate bidding game\nBruxelles 1893 – Art nouveau meets economic planning in this deep Eurogame\nAirlines Europe – Build an airline empire and invest wisely\nMedici – Classic Reiner Knizia auction brilliance\nAcquire – Stock market savvy and corporate takeovers\nRaccoon Tycoon Deluxe – A beautifully upgraded version of a fast-paced economic game\n\nPower Grid – Plan your network\, manage resources\, and outbid opponents for energy dominance
URL:https://oaklandunitedbeerworks.com/event/board-game-meet-up-5-11/
LOCATION:OUB Taproom\, 262 2nd Street\, Oakland\, 94607\, United States
CATEGORIES:Taproom
ATTACH;FMTTYPE=image/jpeg:https://oaklandunitedbeerworks.com/wp-content/uploads/2025/05/f14c18fa-ded9-4ba5-ac50-1470a45ac2ce_orig.jpg
END:VEVENT
BEGIN:VEVENT
DTSTART;VALUE=DATE:20250514
DTEND;VALUE=DATE:20250515
DTSTAMP:20260423T062732
CREATED:20250506T170953Z
LAST-MODIFIED:20250506T170953Z
UID:13763-1747180800-1747267199@oaklandunitedbeerworks.com
SUMMARY:BEER RELEASE: Under The Marquee Lights Hazy IPA 5/14
DESCRIPTION:In the heart of Oakland lies the vibrant Theater District\, home to three of the city’s most iconic historic venues: the Grand Lake Theatre\, the Fox Theater\, and the Paramount Theatre. These beloved landmarks have been part of Oakland’s cultural fabric for nearly a century. Whether you’re catching a live show\, a film\, or simply admiring the stunning architecture\, Oakland’s Theater District beautifully blends history\, entertainment\, and hometown pride. \nBrewed with Ariana\, Alora\, and Citra hops (7% ABV).
URL:https://oaklandunitedbeerworks.com/event/beer-release-under-the-marquee-lights-hazy-ipa-5-14/
LOCATION:OUB Taproom\, 262 2nd Street\, Oakland\, 94607\, United States
CATEGORIES:Taproom
ATTACH;FMTTYPE=image/png:https://oaklandunitedbeerworks.com/wp-content/uploads/2025/05/9.png
END:VEVENT
BEGIN:VEVENT
DTSTART;TZID=America/Los_Angeles:20250516T190000
DTEND;TZID=America/Los_Angeles:20250516T210000
DTSTAMP:20260423T062732
CREATED:20250506T165626Z
LAST-MODIFIED:20250506T171836Z
UID:13754-1747422000-1747429200@oaklandunitedbeerworks.com
SUMMARY:Valkyries Opening Night Watch Party
DESCRIPTION:Join us in the taproom as we cheer on the Valkyries in their very first game! This marks the exciting debut of the Bay Area’s own WNBA expansion team\, and we’re showing our support loud and proud. \nCatch all the action on the big screens and enjoy 10% off your tab during the game. Bring your crew\, wear your gear\, and help us celebrate this historic moment for women’s sports in the Bay!
URL:https://oaklandunitedbeerworks.com/event/valkyries-opening-night-watch-party/
LOCATION:OUB Taproom\, 262 2nd Street\, Oakland\, 94607\, United States
CATEGORIES:Taproom
ATTACH;FMTTYPE=image/png:https://oaklandunitedbeerworks.com/wp-content/uploads/2025/05/Website-Images-May-Events.png
END:VEVENT
BEGIN:VEVENT
DTSTART;TZID=America/Los_Angeles:20250517T120000
DTEND;TZID=America/Los_Angeles:20250517T160000
DTSTAMP:20260423T062732
CREATED:20250330T192617Z
LAST-MODIFIED:20250401T224304Z
UID:13683-1747483200-1747497600@oaklandunitedbeerworks.com
SUMMARY:4th Annual Charity Chili Cook-Off
DESCRIPTION:Get ready for the most delicious showdown of the year! Join us at Oakland United Beerworks for our 4th Annual Charity Chili Cook-Off\, where local teams go head-to-head to see who serves up the best bowl in town. \n🎟️ $30 Ticket Includes:🍽️ Unlimited chili samples from every team🍺 One drink ticket good for a pint of your choice🗳️ A chance to vote for your favorite chili and help decide the winner💰 Support for local causes—each team represents a different charity\, with proceeds from ticket sales shared among them. The winning team takes home the lion’s share for their cause! \n🎟️ PLUS—we’re hosting a raffle!With prizes donated by amazing Bay Area small businesses\, 100% of the raffle proceeds will go directly to the contestants’ charities. \nCome hungry\, cast your vote\, enter the raffle\, and help us make a difference—one bowl at a time. \nGrab your tickets now and let the chili battle begin! 🏆 \nhttps://www.eventbrite.com/e/4th-annual-charity-chili-cook-off-tickets-1305975962259?aff=oddtdtcreator
URL:https://oaklandunitedbeerworks.com/event/4th-annual-charity-chili-cook-off/
LOCATION:OUB Taproom\, 262 2nd Street\, Oakland\, 94607\, United States
ATTACH;FMTTYPE=image/png:https://oaklandunitedbeerworks.com/wp-content/uploads/2025/03/4th-Annual-Charity-Chili-Cook-Off-2160-x-1080-px-Eventbrite.png
END:VEVENT
BEGIN:VEVENT
DTSTART;TZID=America/Los_Angeles:20250518T120000
DTEND;TZID=America/Los_Angeles:20250518T170000
DTSTAMP:20260423T062732
CREATED:20250506T160647Z
LAST-MODIFIED:20250506T160647Z
UID:13751-1747569600-1747587600@oaklandunitedbeerworks.com
SUMMARY:Board Game Meet-Up 5/18
DESCRIPTION:Join the Oakland Board Gamers for a “Board Game Brews” themed game day! \nDig into a day of crop-growing\, beer-brewing\, and bonsai-building with some of the best farming and plant-themed strategy games around.
URL:https://oaklandunitedbeerworks.com/event/board-game-meet-up-5-18/
LOCATION:OUB Taproom\, 262 2nd Street\, Oakland\, 94607\, United States
CATEGORIES:Taproom
ATTACH;FMTTYPE=image/jpeg:https://oaklandunitedbeerworks.com/wp-content/uploads/2025/05/f14c18fa-ded9-4ba5-ac50-1470a45ac2ce_orig.jpg
END:VEVENT
BEGIN:VEVENT
DTSTART;TZID=America/Los_Angeles:20250522T180000
DTEND;TZID=America/Los_Angeles:20250522T203000
DTSTAMP:20260423T062732
CREATED:20250506T170107Z
LAST-MODIFIED:20250506T170107Z
UID:13756-1747936800-1747945800@oaklandunitedbeerworks.com
SUMMARY:Paint Your Pet Night
DESCRIPTION:Love your pet? Immortalize their adorable face with a fun and creative evening! \n  \nJoin us on Thursday\, May 22nd from 6-8:30 PM for the return of Paint Your Pet at the taproom! Sign up\, submit a photo of your favorite furry (or feathered\, or scaly!) friend\, and let a skilled instructor guide you through creating your very own pet portrait—no experience needed! \n  \nYour ticket includes:\n-All painting supplies\n-Your first drink on us\n-Step-by-step instruction to bring your pet to life on canvas! \n  \nNo skills needed—it’s a bit like paint-by-numbers\, so everyone can create a stunning likeness of their furry (or feathery!) friend. \n$75 per person – Spots are limited\, so be sure to sign up using the link below. \n  \nCome sip\, paint\, and celebrate your love for your pet with us! \n  \nSIGN UP TODAY: https://www.eventbrite.com/e/paint-your-pet-oakland-united-beerworks-tickets-1323172497559 \n 
URL:https://oaklandunitedbeerworks.com/event/paint-your-pet-night-2/
LOCATION:OUB Taproom\, 262 2nd Street\, Oakland\, 94607\, United States
CATEGORIES:Taproom
ATTACH;FMTTYPE=image/png:https://oaklandunitedbeerworks.com/wp-content/uploads/2025/05/7.png
END:VEVENT
BEGIN:VEVENT
DTSTART;TZID=America/Los_Angeles:20250523T190000
DTEND;TZID=America/Los_Angeles:20250523T210000
DTSTAMP:20260423T062732
CREATED:20250506T170308Z
LAST-MODIFIED:20250506T170308Z
UID:13758-1748026800-1748034000@oaklandunitedbeerworks.com
SUMMARY:Valkyries Watch Party
DESCRIPTION:Catch all the action on the big screens and enjoy 10% off your tab during the game. Bring your crew\, wear your gear\, and help us celebrate this historic moment for women’s sports in the Bay!
URL:https://oaklandunitedbeerworks.com/event/valkyries-watch-party/
LOCATION:OUB Taproom\, 262 2nd Street\, Oakland\, 94607\, United States
CATEGORIES:Taproom
ATTACH;FMTTYPE=image/png:https://oaklandunitedbeerworks.com/wp-content/uploads/2025/05/5.png
END:VEVENT
BEGIN:VEVENT
DTSTART;TZID=America/Los_Angeles:20250525T120000
DTEND;TZID=America/Los_Angeles:20250525T170000
DTSTAMP:20260423T062732
CREATED:20250506T160755Z
LAST-MODIFIED:20250506T161306Z
UID:13752-1748174400-1748192400@oaklandunitedbeerworks.com
SUMMARY:Board Game Meet-Up 5/25
DESCRIPTION:Join the Oakland Board Gamers for a “BYO Favorite Game” themed game day! \nGrab your favorite games\, gather your friends\, and come join us for a laid-back Open Board Game Day! Whether you’re into fast-paced party games\, deep strategy Euros\, or anything in between\, this is your space to play what you love.
URL:https://oaklandunitedbeerworks.com/event/board-game-meet-up-5-25/
LOCATION:OUB Taproom\, 262 2nd Street\, Oakland\, 94607\, United States
CATEGORIES:Taproom
ATTACH;FMTTYPE=image/jpeg:https://oaklandunitedbeerworks.com/wp-content/uploads/2025/05/f14c18fa-ded9-4ba5-ac50-1470a45ac2ce_orig.jpg
END:VEVENT
BEGIN:VEVENT
DTSTART;VALUE=DATE:20250531
DTEND;VALUE=DATE:20250601
DTSTAMP:20260423T062732
CREATED:20250506T170504Z
LAST-MODIFIED:20250506T170504Z
UID:13761-1748649600-1748735999@oaklandunitedbeerworks.com
SUMMARY:Bay Area Mashers Anniversary Beer Release Party
DESCRIPTION:Join us and the members of the Bay Area Mashers as we celebrate their milestone 35th anniversary with our collaboration beer brewed just for the occasion! \n 
URL:https://oaklandunitedbeerworks.com/event/bay-area-mashers-anniversary-beer-release-party/
LOCATION:OUB Taproom\, 262 2nd Street\, Oakland\, 94607\, United States
CATEGORIES:Taproom
ATTACH;FMTTYPE=image/png:https://oaklandunitedbeerworks.com/wp-content/uploads/2025/05/8.png
END:VEVENT
END:VCALENDAR