BEGIN:VCALENDAR
VERSION:2.0
PRODID:-//Oakland United Beerworks - ECPv6.3.2//NONSGML v1.0//EN
CALSCALE:GREGORIAN
METHOD:PUBLISH
X-ORIGINAL-URL:https://oaklandunitedbeerworks.com
X-WR-CALDESC:Events for Oakland United Beerworks
REFRESH-INTERVAL;VALUE=DURATION:PT1H
X-Robots-Tag:noindex
X-PUBLISHED-TTL:PT1H
BEGIN:VTIMEZONE
TZID:America/Los_Angeles
BEGIN:DAYLIGHT
TZOFFSETFROM:-0800
TZOFFSETTO:-0700
TZNAME:PDT
DTSTART:20260308T100000
END:DAYLIGHT
BEGIN:STANDARD
TZOFFSETFROM:-0700
TZOFFSETTO:-0800
TZNAME:PST
DTSTART:20261101T090000
END:STANDARD
END:VTIMEZONE
BEGIN:VEVENT
DTSTART;TZID=America/Los_Angeles:20260225T180000
DTEND;TZID=America/Los_Angeles:20260225T210000
DTSTAMP:20260424T041729
CREATED:20260116T212524Z
LAST-MODIFIED:20260224T170200Z
UID:14082-1772042400-1772053200@oaklandunitedbeerworks.com
SUMMARY:Learn Hong Kong-style Mahjong at OUB!
DESCRIPTION:Mahjong Is Back! \nKiem Sie is returning to the taproom to teach another Hong Kong–style Mahjong class\, and we couldn’t be more excited. Curious about Mahjong but not sure where to start? This class is the perfect introduction. \nJoin us Wednesday\, February 25th from 6–9pm for a relaxed\, beginner-friendly evening of learning and play. Kiem will walk you through the fundamentals of Hong Kong–style Mahjong\, then guide you through practice rounds so you can put everything you learn into action. \nWhat’s included: \n\nA beginner-friendly lesson on Hong Kong–style Mahjong\nGuided practice rounds with Kiem\nA Mahjong Pocket Guide by Lili Chin to take home\n\nTickets are just $15 per person — we’re covering part of the cost to make this a fun\, affordable night out and an easy way to try something new. Snag your ticket here! \nSpots are limited\, so be sure to grab yours before they’re gone. \nCome learn\, play\, sip a beer\, and meet fellow Mahjong-curious friends in a fun\, welcoming setting! \nNOTE: check-in time is 5:30pm \n    
URL:https://oaklandunitedbeerworks.com/event/learn-hong-kong-style-mahjong-at-oub/
LOCATION:OUB Taproom\, 262 2nd Street\, Oakland\, 94607\, United States
CATEGORIES:Taproom
END:VEVENT
END:VCALENDAR