BEGIN:VCALENDAR
VERSION:2.0
PRODID:-//Oakland United Beerworks - ECPv6.3.2//NONSGML v1.0//EN
CALSCALE:GREGORIAN
METHOD:PUBLISH
X-ORIGINAL-URL:https://oaklandunitedbeerworks.com
X-WR-CALDESC:Events for Oakland United Beerworks
REFRESH-INTERVAL;VALUE=DURATION:PT1H
X-Robots-Tag:noindex
X-PUBLISHED-TTL:PT1H
BEGIN:VTIMEZONE
TZID:America/Los_Angeles
BEGIN:DAYLIGHT
TZOFFSETFROM:-0800
TZOFFSETTO:-0700
TZNAME:PDT
DTSTART:20260308T100000
END:DAYLIGHT
BEGIN:STANDARD
TZOFFSETFROM:-0700
TZOFFSETTO:-0800
TZNAME:PST
DTSTART:20261101T090000
END:STANDARD
END:VTIMEZONE
BEGIN:VEVENT
DTSTART;TZID=America/Los_Angeles:20260506T173000
DTEND;TZID=America/Los_Angeles:20260506T210000
DTSTAMP:20260423T075407
CREATED:20260421T113814Z
LAST-MODIFIED:20260421T113814Z
UID:14168-1778088600-1778101200@oaklandunitedbeerworks.com
SUMMARY:Mahjong Open Play & Strategy Night
DESCRIPTION:🀄 Mahjong Open Play + Strategy Night – Wednesday\, May 6th\nReady to take your skills to the next level? \n\n\nIf you’ve taken the intro class (or already know the basics)\, join us for a night of live gameplay with guided strategy and support from Kiem Sie. It’s the perfect way to build confidence\, sharpen your skills\, and connect with fellow players.\nCheck-in: 5:30pm\nPlay begins: 6:00pm \n\n\nGet your open play tickets here!
URL:https://oaklandunitedbeerworks.com/event/mahjong-open-play-strategy-night/
LOCATION:OUB Taproom\, 262 2nd Street\, Oakland\, 94607\, United States
CATEGORIES:Taproom
END:VEVENT
END:VCALENDAR