BEGIN:VCALENDAR
VERSION:2.0
PRODID:-//Oakland United Beerworks - ECPv6.3.2//NONSGML v1.0//EN
CALSCALE:GREGORIAN
METHOD:PUBLISH
X-ORIGINAL-URL:https://oaklandunitedbeerworks.com
X-WR-CALDESC:Events for Oakland United Beerworks
REFRESH-INTERVAL;VALUE=DURATION:PT1H
X-Robots-Tag:noindex
X-PUBLISHED-TTL:PT1H
BEGIN:VTIMEZONE
TZID:America/Los_Angeles
BEGIN:DAYLIGHT
TZOFFSETFROM:-0800
TZOFFSETTO:-0700
TZNAME:PDT
DTSTART:20250309T100000
END:DAYLIGHT
BEGIN:STANDARD
TZOFFSETFROM:-0700
TZOFFSETTO:-0800
TZNAME:PST
DTSTART:20251102T090000
END:STANDARD
END:VTIMEZONE
BEGIN:VEVENT
DTSTART;VALUE=DATE:20250501
DTEND;VALUE=DATE:20250601
DTSTAMP:20260424T024507
CREATED:20250506T154029Z
LAST-MODIFIED:20250519T174002Z
UID:13741-1746057600-1748735999@oaklandunitedbeerworks.com
SUMMARY:May Food Vendors
DESCRIPTION:Join us in the taproom Fridays through Sundays for a rotating lineup of new and returning guest food pop-ups! \nFriday 5/2: Areito Latino Latin Fusion 4PM-CLOSE \nSaturday 5/3: Genos Smash and Grub Smashburgers 12PM-8PM \nSunday 5/4: Areito Latino Latin Fusion 4PM-CLOSE \nFriday 5/9: Areito Latino Latin Fusion 4PM-CLOSE \nSaturday 5/10: HP Taco Truck (Asian Fusion Tacos) 12PM-8PM \nSunday 5/11: Areito Latino Latin Fusion 4PM-CLOSE \nFriday 5/16: Areito Latino Latin Fusion 4PM-CLOSE \nSaturday 5/17: 4th ANNUAL CHARITY CHILI COOK-OFF 12pm-4pm \nSunday 5/18: Areito Latino Latin Fusion 4PM-CLOSE \nFriday 5/23: Areito Latino Latin Fusion 4PM-CLOSE \nSaturday 5/24: White Oak BBQ 12PM-8PM \nSunday 5/25: Areito Latino Latin Fusion 4PM-CLOSE \nFriday 5/30: Areito Latino Latin Fusion 4PM-CLOSE \nSaturday 5/31: Genos Smash and Grub Smashburgers 12PM-8PM \nSunday 6/1: Areito Latino Latin Fusion 4PM-CLOSE
URL:https://oaklandunitedbeerworks.com/event/may-food-vendors/
LOCATION:OUB Taproom\, 262 2nd Street\, Oakland\, 94607\, United States
CATEGORIES:Taproom
END:VEVENT
BEGIN:VEVENT
DTSTART;TZID=America/Los_Angeles:20250503T120000
DTEND;TZID=America/Los_Angeles:20250503T220000
DTSTAMP:20260424T024507
CREATED:20250406T214548Z
LAST-MODIFIED:20250406T214635Z
UID:13695-1746273600-1746309600@oaklandunitedbeerworks.com
SUMMARY:Pints with Purpose: benefitting Oakland Genesis
DESCRIPTION:Join us for a feel-good day of beer and community at the taproom for Pints with Purpose\, where a portion of all beer sales will be donated to Oakland Genesis—an incredible local nonprofit changing lives through soccer. \nOakland Genesis provides youth from underserved communities (ages 9–18) with free transportation\, academic support\, mentorship\, nutrition\, and professional soccer coaching. Their mission is clear: use soccer as a tool to empower\, educate\, and inspire Oakland’s next generation of leaders. \nCome grab a pint\, support a great cause\, and help us raise both awareness and funds for a program that’s making a real difference in our community. \nLearn more about Oakland Genesis: https://www.oaklandgenesis.org/
URL:https://oaklandunitedbeerworks.com/event/pints-with-purpose-benefitting-oakland-genesis/
LOCATION:OUB Taproom\, 262 2nd Street\, Oakland\, 94607\, United States
CATEGORIES:Taproom
ATTACH;FMTTYPE=image/png:https://oaklandunitedbeerworks.com/wp-content/uploads/2025/04/Website-Images-Oakland-Genesis-Pints-with-Purpose.png
END:VEVENT
END:VCALENDAR