BEGIN:VCALENDAR
VERSION:2.0
PRODID:-//Oakland United Beerworks - ECPv6.3.2//NONSGML v1.0//EN
CALSCALE:GREGORIAN
METHOD:PUBLISH
X-WR-CALNAME:Oakland United Beerworks
X-ORIGINAL-URL:https://oaklandunitedbeerworks.com
X-WR-CALDESC:Events for Oakland United Beerworks
REFRESH-INTERVAL;VALUE=DURATION:PT1H
X-Robots-Tag:noindex
X-PUBLISHED-TTL:PT1H
BEGIN:VTIMEZONE
TZID:America/Los_Angeles
BEGIN:DAYLIGHT
TZOFFSETFROM:-0800
TZOFFSETTO:-0700
TZNAME:PDT
DTSTART:20250309T100000
END:DAYLIGHT
BEGIN:STANDARD
TZOFFSETFROM:-0700
TZOFFSETTO:-0800
TZNAME:PST
DTSTART:20251102T090000
END:STANDARD
END:VTIMEZONE
BEGIN:VEVENT
DTSTART;VALUE=DATE:20250201
DTEND;VALUE=DATE:20250303
DTSTAMP:20260425T052919
CREATED:20241202T224358Z
LAST-MODIFIED:20250201T192238Z
UID:13549-1738368000-1740959999@oaklandunitedbeerworks.com
SUMMARY:February Taproom Food Pop-Ups
DESCRIPTION:Join us as we welcome some brand new vendors and pop-ups in February! \n  \nSaturday\, 2/1: Chef Hits the Streets Hawaiian Poke and Acai (2pm-8pm) \nSunday\, 2/2: Areito Latino Latin Fusion (4pm-Close) \nFriday\, 2/7: Areito Latino Latin Fusion (4pm-Close) \nSaturday\, 2/8: Charlie’s Food Trailer Tacos\, Sandwiches\, and Burgers (12pm-8pm) \nSunday\, 2/9: Areito Latino Latin Fusion (3pm-Close) \nFriday\, 2/14: Areito Latino Latin Fusion (4pm-Close) \nSaturday\, 2/15: HP Taco Truck Asian Fusion Tacos (12pm-8pm) \nSunday\, 2/16: Areito Latino Latin Fusion (4pm-Close) \nFriday\, 2/21: Areito Latino Latin Fusion (4pm-Close) \nSaturday\, 2/22: P&B Smashburgers (12pm-8pm) \nSunday\, 2/23: Areito Latino Latin Fusion (3pm-Close) \nFriday\, 2/28: Areito Latino Latin Fusion (4pm-Close) \nSaturday\, 3/1: Chef Hits the Streets Hawaiian Poke and Acai (2pm-8pm) \nSunday\, 3/2: Areito Latino Latin Fusion (4pm-Close) \n  \nYUMMY! See you there!
URL:https://oaklandunitedbeerworks.com/event/january-taproom-food-pop-ups-2/
LOCATION:OUB Taproom\, 262 2nd Street\, Oakland\, 94607\, United States
CATEGORIES:Taproom
END:VEVENT
BEGIN:VEVENT
DTSTART;TZID=America/Los_Angeles:20250301T140000
DTEND;TZID=America/Los_Angeles:20250301T200000
DTSTAMP:20260425T052919
CREATED:20250209T224008Z
LAST-MODIFIED:20250227T003542Z
UID:13645-1740837600-1740859200@oaklandunitedbeerworks.com
SUMMARY:Luau-Themed Release Party: Benefitting the American Cancer Society!
DESCRIPTION:Join us this Saturday at 2pm for a luau-themed celebration as we honor the incredible life and legacy of Jeff (“48”) with brewer Doug Walker\, Jeff’s family\, and friends. Raise a glass to an amazing man and this really special beer in his memory. If you haven’t had a chance to try this beer\, now’s your chance! \n\n\n🌴 What’s in store: \n\n\n🍍 Hawaiian-inspired bites including fresh spam musubis\, Hawaiian hot dog musubis\, and Portuguese sausage musubis in addition to Hawaiian poke and acai bowls from Chef Hits the Streets \n\n\n🌺 Leis\, grass skirts\, and island vibes to get you in the luau spirit👕 Bonus points if you wear your best aloha shirt and celebrate in style! \n  \n\n\nPlus\, a portion of the proceeds from the event will go to the American Cancer Society in Jeff’s honor. \n\n\nCome celebrate\, enjoy an amazing beer or two\, and raise a toast to a truly special person. \nSee you there!
URL:https://oaklandunitedbeerworks.com/event/luau-themed-release-party-ca-homebrew-collab/
LOCATION:OUB Taproom\, 262 2nd Street\, Oakland\, 94607\, United States
CATEGORIES:Taproom
ATTACH;FMTTYPE=image/png:https://oaklandunitedbeerworks.com/wp-content/uploads/2025/02/Pineapple-Luau-Party-Ideas-Blog-Graphic-11-x-17-in-1080-x-1350-px.png
END:VEVENT
END:VCALENDAR